Workbook

Sheet AUDITOR_UNIVERSAL
A1: SIMULADOR Y AUDITOR FORENSE ELECTORAL: 117 CIRCUNSCRIPCIONES DE AREQUIPA
A3: SELECCIONE CIRCUNSCRIPCIÓN: | C3: Arequipa - Yura
B4: Nivel de Gobierno: | C4: =VLOOKUP($C$3, DATA_CONFIG_ESCANOS!$A:$I, 2, FALSE) -> DISTRITAL | E4: Ubigeo Oficial: | F4: =VLOOKUP($C$3, DATA_CONFIG_ESCANOS!$A:$I, 5, FALSE) -> 040125
B5: Escaños Mayoría: | C5: =VLOOKUP($C$3, DATA_CONFIG_ESCANOS!$A:$I, 7, FALSE) -> 5 | E5: Base Legal: | F5: =VLOOKUP($C$3, DATA_CONFIG_ESCANOS!$A:$I, 9, FALSE) -> LEM Art. 25 inc. 2 (Mayoría: 5, Minorías D'Hondt: 2)
B6: Total Escaños Concejo/Consejo: | C6: =VLOOKUP($C$3, DATA_CONFIG_ESCANOS!$A:$I, 6, FALSE) -> 7 | E6: Escaños Minorías (D'Hondt): | F6: =VLOOKUP($C$3, DATA_CONFIG_ESCANOS!$A:$I, 8, FALSE) -> 2
A7: TABLA 1: RESULTADOS OFICIALES ONPE DEL CONCEJO/CONSEJO SELECCIONADO
A8: Rank | B8: Organización Política | C8: Partido Clean | D8: Votos Válidos | E8: Porcentaje Válidos | F8: Condición Preliminar
A9: 1 | B9: =IFERROR(VLOOKUP($C$3 & "_" & A9, DATA_VOTOS_ONPE!$A:$N, 7, FALSE), "") -> MOVIMIENTO REGIONAL AREQUIPA AVANCEMOS | C9: =IFERROR(VLOOKUP($C$3 & "_" & A9, DATA_VOTOS_ONPE!$A:$N, 8, FALSE), "") -> MOVIMIENTO REGIONAL AREQUIPA AVANCEMOS | D9: =IF(B9="","", IFERROR(VLOOKUP($C$3 & "_" & A9, DATA_VOTOS_ONPE!$A:$N, 9, FALSE), 0)) -> 4207 | E9: =IF(B9="","", IFERROR(VLOOKUP($C$3 & "_" & A9, DATA_VOTOS_ONPE!$A:$N, 10, FALSE), 0)) -> 0.21109 | F9: =IF(B9="","", IF(A9=1, "GANADOR (MAYORÍA / 1ER ESCAÑO)", "Oposición / Minoría")) -> GANADOR (MAYORÍA / 1ER ESCAÑO)
A10: 2 | B10: =IFERROR(VLOOKUP($C$3 & "_" & A10, DATA_VOTOS_ONPE!$A:$N, 7, FALSE), "") -> PARTIDO POLÍTICO PERÚ PRIMERO | C10: =IFERROR(VLOOKUP($C$3 & "_" & A10, DATA_VOTOS_ONPE!$A:$N, 8, FALSE), "") -> PARTIDO POLITICO PERU PRIMERO | D10: =IF(B10="","", IFERROR(VLOOKUP($C$3 & "_" & A10, DATA_VOTOS_ONPE!$A:$N, 9, FALSE), 0)) -> 4107 | E10: =IF(B10="","", IFERROR(VLOOKUP($C$3 & "_" & A10, DATA_VOTOS_ONPE!$A:$N, 10, FALSE), 0)) -> 0.20607 | F10: =IF(B10="","", IF(A10=1, "GANADOR (MAYORÍA / 1ER ESCAÑO)", "Oposición / Minoría")) -> Oposición / Minoría
A11: 3 | B11: =IFERROR(VLOOKUP($C$3 & "_" & A11, DATA_VOTOS_ONPE!$A:$N, 7, FALSE), "") -> ALIANZA PARA EL PROGRESO | C11: =IFERROR(VLOOKUP($C$3 & "_" & A11, DATA_VOTOS_ONPE!$A:$N, 8, FALSE), "") -> ALIANZA PARA EL PROGRESO | D11: =IF(B11="","", IFERROR(VLOOKUP($C$3 & "_" & A11, DATA_VOTOS_ONPE!$A:$N, 9, FALSE), 0)) -> 3567 | E11: =IF(B11="","", IFERROR(VLOOKUP($C$3 & "_" & A11, DATA_VOTOS_ONPE!$A:$N, 10, FALSE), 0)) -> 0.17898 | F11: =IF(B11="","", IF(A11=1, "GANADOR (MAYORÍA / 1ER ESCAÑO)", "Oposición / Minoría")) -> Oposición / Minoría
A12: 4 | B12: =IFERROR(VLOOKUP($C$3 & "_" & A12, DATA_VOTOS_ONPE!$A:$N, 7, FALSE), "") -> FUERZA AREQUIPEÑA | C12: =IFERROR(VLOOKUP($C$3 & "_" & A12, DATA_VOTOS_ONPE!$A:$N, 8, FALSE), "") -> FUERZA AREQUIPENA | D12: =IF(B12="","", IFERROR(VLOOKUP($C$3 & "_" & A12, DATA_VOTOS_ONPE!$A:$N, 9, FALSE), 0)) -> 3104 | E12: =IF(B12="","", IFERROR(VLOOKUP($C$3 & "_" & A12, DATA_VOTOS_ONPE!$A:$N, 10, FALSE), 0)) -> 0.15575 | F12: =IF(B12="","", IF(A12=1, "GANADOR (MAYORÍA / 1ER ESCAÑO)", "Oposición / Minoría")) -> Oposición / Minoría
A13: 5 | B13: =IFERROR(VLOOKUP($C$3 & "_" & A13, DATA_VOTOS_ONPE!$A:$N, 7, FALSE), "") -> AHORA NACIÓN - AN | C13: =IFERROR(VLOOKUP($C$3 & "_" & A13, DATA_VOTOS_ONPE!$A:$N, 8, FALSE), "") -> AHORA NACION AN | D13: =IF(B13="","", IFERROR(VLOOKUP($C$3 & "_" & A13, DATA_VOTOS_ONPE!$A:$N, 9, FALSE), 0)) -> 1929 | E13: =IF(B13="","", IFERROR(VLOOKUP($C$3 & "_" & A13, DATA_VOTOS_ONPE!$A:$N, 10, FALSE), 0)) -> 0.09679 | F13: =IF(B13="","", IF(A13=1, "GANADOR (MAYORÍA / 1ER ESCAÑO)", "Oposición / Minoría")) -> Oposición / Minoría
A14: 6 | B14: =IFERROR(VLOOKUP($C$3 & "_" & A14, DATA_VOTOS_ONPE!$A:$N, 7, FALSE), "") -> PODEMOS PERÚ | C14: =IFERROR(VLOOKUP($C$3 & "_" & A14, DATA_VOTOS_ONPE!$A:$N, 8, FALSE), "") -> PODEMOS PERU | D14: =IF(B14="","", IFERROR(VLOOKUP($C$3 & "_" & A14, DATA_VOTOS_ONPE!$A:$N, 9, FALSE), 0)) -> 977 | E14: =IF(B14="","", IFERROR(VLOOKUP($C$3 & "_" & A14, DATA_VOTOS_ONPE!$A:$N, 10, FALSE), 0)) -> 0.04902 | F14: =IF(B14="","", IF(A14=1, "GANADOR (MAYORÍA / 1ER ESCAÑO)", "Oposición / Minoría")) -> Oposición / Minoría
A15: 7 | B15: =IFERROR(VLOOKUP($C$3 & "_" & A15, DATA_VOTOS_ONPE!$A:$N, 7, FALSE), "") -> PARTIDO DEL BUEN GOBIERNO | C15: =IFERROR(VLOOKUP($C$3 & "_" & A15, DATA_VOTOS_ONPE!$A:$N, 8, FALSE), "") -> PARTIDO DEL BUEN GOBIERNO | D15: =IF(B15="","", IFERROR(VLOOKUP($C$3 & "_" & A15, DATA_VOTOS_ONPE!$A:$N, 9, FALSE), 0)) -> 895 | E15: =IF(B15="","", IFERROR(VLOOKUP($C$3 & "_" & A15, DATA_VOTOS_ONPE!$A:$N, 10, FALSE), 0)) -> 0.04491 | F15: =IF(B15="","", IF(A15=1, "GANADOR (MAYORÍA / 1ER ESCAÑO)", "Oposición / Minoría")) -> Oposición / Minoría
A16: 8 | B16: =IFERROR(VLOOKUP($C$3 & "_" & A16, DATA_VOTOS_ONPE!$A:$N, 7, FALSE), "") -> PERÚ MODERNO | C16: =IFERROR(VLOOKUP($C$3 & "_" & A16, DATA_VOTOS_ONPE!$A:$N, 8, FALSE), "") -> PERU MODERNO | D16: =IF(B16="","", IFERROR(VLOOKUP($C$3 & "_" & A16, DATA_VOTOS_ONPE!$A:$N, 9, FALSE), 0)) -> 765 | E16: =IF(B16="","", IFERROR(VLOOKUP($C$3 & "_" & A16, DATA_VOTOS_ONPE!$A:$N, 10, FALSE), 0)) -> 0.03838 | F16: =IF(B16="","", IF(A16=1, "GANADOR (MAYORÍA / 1ER ESCAÑO)", "Oposición / Minoría")) -> Oposición / Minoría
A17: 9 | B17: =IFERROR(VLOOKUP($C$3 & "_" & A17, DATA_VOTOS_ONPE!$A:$N, 7, FALSE), "") -> RENOVACIÓN POPULAR PERÚ | C17: =IFERROR(VLOOKUP($C$3 & "_" & A17, DATA_VOTOS_ONPE!$A:$N, 8, FALSE), "") -> RENOVACION POPULAR PERU | D17: =IF(B17="","", IFERROR(VLOOKUP($C$3 & "_" & A17, DATA_VOTOS_ONPE!$A:$N, 9, FALSE), 0)) -> 379 | E17: =IF(B17="","", IFERROR(VLOOKUP($C$3 & "_" & A17, DATA_VOTOS_ONPE!$A:$N, 10, FALSE), 0)) -> 0.01902 | F17: =IF(B17="","", IF(A17=1, "GANADOR (MAYORÍA / 1ER ESCAÑO)", "Oposición / Minoría")) -> Oposición / Minoría
A18: 10 | B18: =IFERROR(VLOOKUP($C$3 & "_" & A18, DATA_VOTOS_ONPE!$A:$N, 7, FALSE), "") | C18: =IFERROR(VLOOKUP($C$3 & "_" & A18, DATA_VOTOS_ONPE!$A:$N, 8, FALSE), "") | D18: =IF(B18="","", IFERROR(VLOOKUP($C$3 & "_" & A18, DATA_VOTOS_ONPE!$A:$N, 9, FALSE), 0)) | E18: =IF(B18="","", IFERROR(VLOOKUP($C$3 & "_" & A18, DATA_VOTOS_ONPE!$A:$N, 10, FALSE), 0)) | F18: =IF(B18="","", IF(A18=1, "GANADOR (MAYORÍA / 1ER ESCAÑO)", "Oposición / Minoría"))
A19: 11 | B19: =IFERROR(VLOOKUP($C$3 & "_" & A19, DATA_VOTOS_ONPE!$A:$N, 7, FALSE), "") | C19: =IFERROR(VLOOKUP($C$3 & "_" & A19, DATA_VOTOS_ONPE!$A:$N, 8, FALSE), "") | D19: =IF(B19="","", IFERROR(VLOOKUP($C$3 & "_" & A19, DATA_VOTOS_ONPE!$A:$N, 9, FALSE), 0)) | E19: =IF(B19="","", IFERROR(VLOOKUP($C$3 & "_" & A19, DATA_VOTOS_ONPE!$A:$N, 10, FALSE), 0)) | F19: =IF(B19="","", IF(A19=1, "GANADOR (MAYORÍA / 1ER ESCAÑO)", "Oposición / Minoría"))
A20: 12 | B20: =IFERROR(VLOOKUP($C$3 & "_" & A20, DATA_VOTOS_ONPE!$A:$N, 7, FALSE), "") | C20: =IFERROR(VLOOKUP($C$3 & "_" & A20, DATA_VOTOS_ONPE!$A:$N, 8, FALSE), "") | D20: =IF(B20="","", IFERROR(VLOOKUP($C$3 & "_" & A20, DATA_VOTOS_ONPE!$A:$N, 9, FALSE), 0)) | E20: =IF(B20="","", IFERROR(VLOOKUP($C$3 & "_" & A20, DATA_VOTOS_ONPE!$A:$N, 10, FALSE), 0)) | F20: =IF(B20="","", IF(A20=1, "GANADOR (MAYORÍA / 1ER ESCAÑO)", "Oposición / Minoría"))
... A28: 20 | B28: =IFERROR(VLOOKUP($C$3 & "_" & A28, DATA_VOTOS_ONPE!$A:$N, 7, FALSE), "") | C28: =IFERROR(VLOOKUP($C$3 & "_" & A28, DATA_VOTOS_ONPE!$A:$N, 8, FALSE), "") | D28: =IF(B28="","", IFERROR(VLOOKUP($C$3 & "_" & A28, DATA_VOTOS_ONPE!$A:$N, 9, FALSE), 0)) | E28: =IF(B28="","", IFERROR(VLOOKUP($C$3 & "_" & A28, DATA_VOTOS_ONPE!$A:$N, 10, FALSE), 0)) | F28: =IF(B28="","", IF(A28=1, "GANADOR (MAYORÍA / 1ER ESCAÑO)", "Oposición / Minoría"))
B29: TOTAL VOTOS VÁLIDOS COMPUTADOS: | D29: =SUM(D9:D28) -> 19930 | E29: =SUM(E9:E28) -> 1.00001
A31: ORGANIZACIÓN POLÍTICA GANADORA: | D31: =IFERROR(VLOOKUP($C$3 & "_1", DATA_VOTOS_ONPE!$A:$N, 7, FALSE), "") -> MOVIMIENTO REGIONAL AREQUIPA AVANCEMOS | E31: =IFERROR(VLOOKUP($C$3 & "_1", DATA_VOTOS_ONPE!$A:$N, 8, FALSE), "") -> MOVIMIENTO REGIONAL AREQUIPA AVANCEMOS
A33: TABLA 2: MATRIZ D'HONDT CON FÓRMULAS VIVAS (EXCLUYE AL GANADOR DE LA MAYORÍA EN MUNICIPIOS)
A34: Organización | B34: Votos | C34: Cociente / 1 | D34: Cociente / 2 | E34: Cociente / 3 | F34: Cociente / 4 | G34: Cociente / 5 | H34: Cociente / 6 | I34: Cociente / 7 | J34: Cociente / 8 | K34: Escaños Minoría Obtenidos
A35: =B9 -> MOVIMIENTO REGIONAL AREQUIPA AVANCEMOS | B35: =IF(D9="","", D9) -> 4207 | C35: =IF(A35="", 0, IF(AND($C$4<>"CONSEJO REGIONAL", A35=$D$31), 0, B35/1)) -> 0 | D35: =IF(A35="", 0, IF(AND($C$4<>"CONSEJO REGIONAL", A35=$D$31), 0, B35/2)) -> 0 | E35: =IF(A35="", 0, IF(AND($C$4<>"CONSEJO REGIONAL", A35=$D$31), 0, B35/3)) -> 0 | F35: =IF(A35="", 0, IF(AND($C$4<>"CONSEJO REGIONAL", A35=$D$31), 0, B35/4)) -> 0 | G35: =IF(A35="", 0, IF(AND($C$4<>"CONSEJO REGIONAL", A35=$D$31), 0, B35/5)) -> 0 | H35: =IF(A35="", 0, IF(AND($C$4<>"CONSEJO REGIONAL", A35=$D$31), 0, B35/6)) -> 0 | I35: =IF(A35="", 0, IF(AND($C$4<>"CONSEJO REGIONAL", A35=$D$31), 0, B35/7)) -> 0 | J35: =IF(A35="", 0, IF(AND($C$4<>"CONSEJO REGIONAL", A35=$D$31), 0, B35/8)) -> 0 | K35: =IF(OR(A35="", $F$6=0), 0, COUNTIF(C35:J35, ">=" & LARGE($C$35:$J$54, $F$6))) -> 0
A36: =B10 -> PARTIDO POLÍTICO PERÚ PRIMERO | B36: =IF(D10="","", D10) -> 4107 | C36: =IF(A36="", 0, IF(AND($C$4<>"CONSEJO REGIONAL", A36=$D$31), 0, B36/1)) -> 4107 | D36: =IF(A36="", 0, IF(AND($C$4<>"CONSEJO REGIONAL", A36=$D$31), 0, B36/2)) -> 2053.5 | E36: =IF(A36="", 0, IF(AND($C$4<>"CONSEJO REGIONAL", A36=$D$31), 0, B36/3)) -> 1369 | F36: =IF(A36="", 0, IF(AND($C$4<>"CONSEJO REGIONAL", A36=$D$31), 0, B36/4)) -> 1026.75 | G36: =IF(A36="", 0, IF(AND($C$4<>"CONSEJO REGIONAL", A36=$D$31), 0, B36/5)) -> 821.4 | H36: =IF(A36="", 0, IF(AND($C$4<>"CONSEJO REGIONAL", A36=$D$31), 0, B36/6)) -> 684.5 | I36: =IF(A36="", 0, IF(AND($C$4<>"CONSEJO REGIONAL", A36=$D$31), 0, B36/7)) -> 586.71429 | J36: =IF(A36="", 0, IF(AND($C$4<>"CONSEJO REGIONAL", A36=$D$31), 0, B36/8)) -> 513.375 | K36: =IF(OR(A36="", $F$6=0), 0, COUNTIF(C36:J36, ">=" & LARGE($C$35:$J$54, $F$6))) -> 1
A37: =B11 -> ALIANZA PARA EL PROGRESO | B37: =IF(D11="","", D11) -> 3567 | C37: =IF(A37="", 0, IF(AND($C$4<>"CONSEJO REGIONAL", A37=$D$31), 0, B37/1)) -> 3567 | D37: =IF(A37="", 0, IF(AND($C$4<>"CONSEJO REGIONAL", A37=$D$31), 0, B37/2)) -> 1783.5 | E37: =IF(A37="", 0, IF(AND($C$4<>"CONSEJO REGIONAL", A37=$D$31), 0, B37/3)) -> 1189 | F37: =IF(A37="", 0, IF(AND($C$4<>"CONSEJO REGIONAL", A37=$D$31), 0, B37/4)) -> 891.75 | G37: =IF(A37="", 0, IF(AND($C$4<>"CONSEJO REGIONAL", A37=$D$31), 0, B37/5)) -> 713.4 | H37: =IF(A37="", 0, IF(AND($C$4<>"CONSEJO REGIONAL", A37=$D$31), 0, B37/6)) -> 594.5 | I37: =IF(A37="", 0, IF(AND($C$4<>"CONSEJO REGIONAL", A37=$D$31), 0, B37/7)) -> 509.57143 | J37: =IF(A37="", 0, IF(AND($C$4<>"CONSEJO REGIONAL", A37=$D$31), 0, B37/8)) -> 445.875 | K37: =IF(OR(A37="", $F$6=0), 0, COUNTIF(C37:J37, ">=" & LARGE($C$35:$J$54, $F$6))) -> 1
A38: =B12 -> FUERZA AREQUIPEÑA | B38: =IF(D12="","", D12) -> 3104 | C38: =IF(A38="", 0, IF(AND($C$4<>"CONSEJO REGIONAL", A38=$D$31), 0, B38/1)) -> 3104 | D38: =IF(A38="", 0, IF(AND($C$4<>"CONSEJO REGIONAL", A38=$D$31), 0, B38/2)) -> 1552 | E38: =IF(A38="", 0, IF(AND($C$4<>"CONSEJO REGIONAL", A38=$D$31), 0, B38/3)) -> 1034.6667 | F38: =IF(A38="", 0, IF(AND($C$4<>"CONSEJO REGIONAL", A38=$D$31), 0, B38/4)) -> 776 | G38: =IF(A38="", 0, IF(AND($C$4<>"CONSEJO REGIONAL", A38=$D$31), 0, B38/5)) -> 620.8 | H38: =IF(A38="", 0, IF(AND($C$4<>"CONSEJO REGIONAL", A38=$D$31), 0, B38/6)) -> 517.33333 | I38: =IF(A38="", 0, IF(AND($C$4<>"CONSEJO REGIONAL", A38=$D$31), 0, B38/7)) -> 443.42857 | J38: =IF(A38="", 0, IF(AND($C$4<>"CONSEJO REGIONAL", A38=$D$31), 0, B38/8)) -> 388 | K38: =IF(OR(A38="", $F$6=0), 0, COUNTIF(C38:J38, ">=" & LARGE($C$35:$J$54, $F$6))) -> 0
A39: =B13 -> AHORA NACIÓN - AN | B39: =IF(D13="","", D13) -> 1929 | C39: =IF(A39="", 0, IF(AND($C$4<>"CONSEJO REGIONAL", A39=$D$31), 0, B39/1)) -> 1929 | D39: =IF(A39="", 0, IF(AND($C$4<>"CONSEJO REGIONAL", A39=$D$31), 0, B39/2)) -> 964.5 | E39: =IF(A39="", 0, IF(AND($C$4<>"CONSEJO REGIONAL", A39=$D$31), 0, B39/3)) -> 643 | F39: =IF(A39="", 0, IF(AND($C$4<>"CONSEJO REGIONAL", A39=$D$31), 0, B39/4)) -> 482.25 | G39: =IF(A39="", 0, IF(AND($C$4<>"CONSEJO REGIONAL", A39=$D$31), 0, B39/5)) -> 385.8 | H39: =IF(A39="", 0, IF(AND($C$4<>"CONSEJO REGIONAL", A39=$D$31), 0, B39/6)) -> 321.5 | I39: =IF(A39="", 0, IF(AND($C$4<>"CONSEJO REGIONAL", A39=$D$31), 0, B39/7)) -> 275.57143 | J39: =IF(A39="", 0, IF(AND($C$4<>"CONSEJO REGIONAL", A39=$D$31), 0, B39/8)) -> 241.125 | K39: =IF(OR(A39="", $F$6=0), 0, COUNTIF(C39:J39, ">=" & LARGE($C$35:$J$54, $F$6))) -> 0
A40: =B14 -> PODEMOS PERÚ | B40: =IF(D14="","", D14) -> 977 | C40: =IF(A40="", 0, IF(AND($C$4<>"CONSEJO REGIONAL", A40=$D$31), 0, B40/1)) -> 977 | D40: =IF(A40="", 0, IF(AND($C$4<>"CONSEJO REGIONAL", A40=$D$31), 0, B40/2)) -> 488.5 | E40: =IF(A40="", 0, IF(AND($C$4<>"CONSEJO REGIONAL", A40=$D$31), 0, B40/3)) -> 325.66667 | F40: =IF(A40="", 0, IF(AND($C$4<>"CONSEJO REGIONAL", A40=$D$31), 0, B40/4)) -> 244.25 | G40: =IF(A40="", 0, IF(AND($C$4<>"CONSEJO REGIONAL", A40=$D$31), 0, B40/5)) -> 195.4 | H40: =IF(A40="", 0, IF(AND($C$4<>"CONSEJO REGIONAL", A40=$D$31), 0, B40/6)) -> 162.83333 | I40: =IF(A40="", 0, IF(AND($C$4<>"CONSEJO REGIONAL", A40=$D$31), 0, B40/7)) -> 139.57143 | J40: =IF(A40="", 0, IF(AND($C$4<>"CONSEJO REGIONAL", A40=$D$31), 0, B40/8)) -> 122.125 | K40: =IF(OR(A40="", $F$6=0), 0, COUNTIF(C40:J40, ">=" & LARGE($C$35:$J$54, $F$6))) -> 0
A41: =B15 -> PARTIDO DEL BUEN GOBIERNO | B41: =IF(D15="","", D15) -> 895 | C41: =IF(A41="", 0, IF(AND($C$4<>"CONSEJO REGIONAL", A41=$D$31), 0, B41/1)) -> 895 | D41: =IF(A41="", 0, IF(AND($C$4<>"CONSEJO REGIONAL", A41=$D$31), 0, B41/2)) -> 447.5 | E41: =IF(A41="", 0, IF(AND($C$4<>"CONSEJO REGIONAL", A41=$D$31), 0, B41/3)) -> 298.33333 | F41: =IF(A41="", 0, IF(AND($C$4<>"CONSEJO REGIONAL", A41=$D$31), 0, B41/4)) -> 223.75 | G41: =IF(A41="", 0, IF(AND($C$4<>"CONSEJO REGIONAL", A41=$D$31), 0, B41/5)) -> 179 | H41: =IF(A41="", 0, IF(AND($C$4<>"CONSEJO REGIONAL", A41=$D$31), 0, B41/6)) -> 149.16667 | I41: =IF(A41="", 0, IF(AND($C$4<>"CONSEJO REGIONAL", A41=$D$31), 0, B41/7)) -> 127.85714 | J41: =IF(A41="", 0, IF(AND($C$4<>"CONSEJO REGIONAL", A41=$D$31), 0, B41/8)) -> 111.875 | K41: =IF(OR(A41="", $F$6=0), 0, COUNTIF(C41:J41, ">=" & LARGE($C$35:$J$54, $F$6))) -> 0
A42: =B16 -> PERÚ MODERNO | B42: =IF(D16="","", D16) -> 765 | C42: =IF(A42="", 0, IF(AND($C$4<>"CONSEJO REGIONAL", A42=$D$31), 0, B42/1)) -> 765 | D42: =IF(A42="", 0, IF(AND($C$4<>"CONSEJO REGIONAL", A42=$D$31), 0, B42/2)) -> 382.5 | E42: =IF(A42="", 0, IF(AND($C$4<>"CONSEJO REGIONAL", A42=$D$31), 0, B42/3)) -> 255 | F42: =IF(A42="", 0, IF(AND($C$4<>"CONSEJO REGIONAL", A42=$D$31), 0, B42/4)) -> 191.25 | G42: =IF(A42="", 0, IF(AND($C$4<>"CONSEJO REGIONAL", A42=$D$31), 0, B42/5)) -> 153 | H42: =IF(A42="", 0, IF(AND($C$4<>"CONSEJO REGIONAL", A42=$D$31), 0, B42/6)) -> 127.5 | I42: =IF(A42="", 0, IF(AND($C$4<>"CONSEJO REGIONAL", A42=$D$31), 0, B42/7)) -> 109.28571 | J42: =IF(A42="", 0, IF(AND($C$4<>"CONSEJO REGIONAL", A42=$D$31), 0, B42/8)) -> 95.625 | K42: =IF(OR(A42="", $F$6=0), 0, COUNTIF(C42:J42, ">=" & LARGE($C$35:$J$54, $F$6))) -> 0
A43: =B17 -> RENOVACIÓN POPULAR PERÚ | B43: =IF(D17="","", D17) -> 379 | C43: =IF(A43="", 0, IF(AND($C$4<>"CONSEJO REGIONAL", A43=$D$31), 0, B43/1)) -> 379 | D43: =IF(A43="", 0, IF(AND($C$4<>"CONSEJO REGIONAL", A43=$D$31), 0, B43/2)) -> 189.5 | E43: =IF(A43="", 0, IF(AND($C$4<>"CONSEJO REGIONAL", A43=$D$31), 0, B43/3)) -> 126.33333 | F43: =IF(A43="", 0, IF(AND($C$4<>"CONSEJO REGIONAL", A43=$D$31), 0, B43/4)) -> 94.75 | G43: =IF(A43="", 0, IF(AND($C$4<>"CONSEJO REGIONAL", A43=$D$31), 0, B43/5)) -> 75.8 | H43: =IF(A43="", 0, IF(AND($C$4<>"CONSEJO REGIONAL", A43=$D$31), 0, B43/6)) -> 63.166667 | I43: =IF(A43="", 0, IF(AND($C$4<>"CONSEJO REGIONAL", A43=$D$31), 0, B43/7)) -> 54.142857 | J43: =IF(A43="", 0, IF(AND($C$4<>"CONSEJO REGIONAL", A43=$D$31), 0, B43/8)) -> 47.375 | K43: =IF(OR(A43="", $F$6=0), 0, COUNTIF(C43:J43, ">=" & LARGE($C$35:$J$54, $F$6))) -> 0
A44: =B18 | B44: =IF(D18="","", D18) | C44: =IF(A44="", 0, IF(AND($C$4<>"CONSEJO REGIONAL", A44=$D$31), 0, B44/1)) -> 0 | D44: =IF(A44="", 0, IF(AND($C$4<>"CONSEJO REGIONAL", A44=$D$31), 0, B44/2)) -> 0 | E44: =IF(A44="", 0, IF(AND($C$4<>"CONSEJO REGIONAL", A44=$D$31), 0, B44/3)) -> 0 | F44: =IF(A44="", 0, IF(AND($C$4<>"CONSEJO REGIONAL", A44=$D$31), 0, B44/4)) -> 0 | G44: =IF(A44="", 0, IF(AND($C$4<>"CONSEJO REGIONAL", A44=$D$31), 0, B44/5)) -> 0 | H44: =IF(A44="", 0, IF(AND($C$4<>"CONSEJO REGIONAL", A44=$D$31), 0, B44/6)) -> 0 | I44: =IF(A44="", 0, IF(AND($C$4<>"CONSEJO REGIONAL", A44=$D$31), 0, B44/7)) -> 0 | J44: =IF(A44="", 0, IF(AND($C$4<>"CONSEJO REGIONAL", A44=$D$31), 0, B44/8)) -> 0 | K44: =IF(OR(A44="", $F$6=0), 0, COUNTIF(C44:J44, ">=" & LARGE($C$35:$J$54, $F$6))) -> 0
A45: =B19 | B45: =IF(D19="","", D19) | C45: =IF(A45="", 0, IF(AND($C$4<>"CONSEJO REGIONAL", A45=$D$31), 0, B45/1)) -> 0 | D45: =IF(A45="", 0, IF(AND($C$4<>"CONSEJO REGIONAL", A45=$D$31), 0, B45/2)) -> 0 | E45: =IF(A45="", 0, IF(AND($C$4<>"CONSEJO REGIONAL", A45=$D$31), 0, B45/3)) -> 0 | F45: =IF(A45="", 0, IF(AND($C$4<>"CONSEJO REGIONAL", A45=$D$31), 0, B45/4)) -> 0 | G45: =IF(A45="", 0, IF(AND($C$4<>"CONSEJO REGIONAL", A45=$D$31), 0, B45/5)) -> 0 | H45: =IF(A45="", 0, IF(AND($C$4<>"CONSEJO REGIONAL", A45=$D$31), 0, B45/6)) -> 0 | I45: =IF(A45="", 0, IF(AND($C$4<>"CONSEJO REGIONAL", A45=$D$31), 0, B45/7)) -> 0 | J45: =IF(A45="", 0, IF(AND($C$4<>"CONSEJO REGIONAL", A45=$D$31), 0, B45/8)) -> 0 | K45: =IF(OR(A45="", $F$6=0), 0, COUNTIF(C45:J45, ">=" & LARGE($C$35:$J$54, $F$6))) -> 0
A46: =B20 | B46: =IF(D20="","", D20) | C46: =IF(A46="", 0, IF(AND($C$4<>"CONSEJO REGIONAL", A46=$D$31), 0, B46/1)) -> 0 | D46: =IF(A46="", 0, IF(AND($C$4<>"CONSEJO REGIONAL", A46=$D$31), 0, B46/2)) -> 0 | E46: =IF(A46="", 0, IF(AND($C$4<>"CONSEJO REGIONAL", A46=$D$31), 0, B46/3)) -> 0 | F46: =IF(A46="", 0, IF(AND($C$4<>"CONSEJO REGIONAL", A46=$D$31), 0, B46/4)) -> 0 | G46: =IF(A46="", 0, IF(AND($C$4<>"CONSEJO REGIONAL", A46=$D$31), 0, B46/5)) -> 0 | H46: =IF(A46="", 0, IF(AND($C$4<>"CONSEJO REGIONAL", A46=$D$31), 0, B46/6)) -> 0 | I46: =IF(A46="", 0, IF(AND($C$4<>"CONSEJO REGIONAL", A46=$D$31), 0, B46/7)) -> 0 | J46: =IF(A46="", 0, IF(AND($C$4<>"CONSEJO REGIONAL", A46=$D$31), 0, B46/8)) -> 0 | K46: =IF(OR(A46="", $F$6=0), 0, COUNTIF(C46:J46, ">=" & LARGE($C$35:$J$54, $F$6))) -> 0
... A54: =B28 | B54: =IF(D28="","", D28) | C54: =IF(A54="", 0, IF(AND($C$4<>"CONSEJO REGIONAL", A54=$D$31), 0, B54/1)) -> 0 | D54: =IF(A54="", 0, IF(AND($C$4<>"CONSEJO REGIONAL", A54=$D$31), 0, B54/2)) -> 0 | E54: =IF(A54="", 0, IF(AND($C$4<>"CONSEJO REGIONAL", A54=$D$31), 0, B54/3)) -> 0 | F54: =IF(A54="", 0, IF(AND($C$4<>"CONSEJO REGIONAL", A54=$D$31), 0, B54/4)) -> 0 | G54: =IF(A54="", 0, IF(AND($C$4<>"CONSEJO REGIONAL", A54=$D$31), 0, B54/5)) -> 0 | H54: =IF(A54="", 0, IF(AND($C$4<>"CONSEJO REGIONAL", A54=$D$31), 0, B54/6)) -> 0 | I54: =IF(A54="", 0, IF(AND($C$4<>"CONSEJO REGIONAL", A54=$D$31), 0, B54/7)) -> 0 | J54: =IF(A54="", 0, IF(AND($C$4<>"CONSEJO REGIONAL", A54=$D$31), 0, B54/8)) -> 0 | K54: =IF(OR(A54="", $F$6=0), 0, COUNTIF(C54:J54, ">=" & LARGE($C$35:$J$54, $F$6))) -> 0
A56: TABLA 3: PROBABLES AUTORIDADES ELECTAS (PROYECCIÓN PERIODÍSTICA PANCARTA.PE - PENDIENTE PROCLAMACIÓN OFICIAL JNE)
A57: Cargo | B57: Tipo Asignación | C57: Organización Política | D57: N° Lista | E57: Probable Autoridad Electa (JNE) | F57: DNI | G57: Estado JNE | H57: Condición Legal | I57: Enlace Hoja de Vida
A58: =IF($C$4="CONSEJO REGIONAL", "Gobernador(a) / Regional", "Alcalde(sa)") -> Alcalde(sa) | B58: Mayoría Relativa (Ganador) | C58: =IFERROR(VLOOKUP($C$3 & "_0", BD_TABLA_DINAMICA!$A:$P, 9, FALSE), IF($C$4="CONSEJO REGIONAL", "N/A (Elección Regional)", "")) -> MOVIMIENTO REGIONAL AREQUIPA AVANCEMOS | D58: =IFERROR(VLOOKUP($C$3 & "_0", BD_TABLA_DINAMICA!$A:$P, 11, FALSE), 0) -> 0 | E58: =IFERROR(VLOOKUP($C$3 & "_0", BD_TABLA_DINAMICA!$A:$P, 12, FALSE), IF($C$4="CONSEJO REGIONAL", "N/A (Ver Consejeros abajo)", "NO REGISTRA EN PADRÓN")) -> LUIS JAVIER FUENTES SALAS | F58: =IFERROR(VLOOKUP($C$3 & "_0", BD_TABLA_DINAMICA!$A:$P, 13, FALSE), "") -> 29532578 | G58: =IFERROR(VLOOKUP($C$3 & "_0", BD_TABLA_DINAMICA!$A:$P, 14, FALSE), "") -> INSCRITO | H58: =IFERROR(VLOOKUP($C$3 & "_0", BD_TABLA_DINAMICA!$A:$P, 15, FALSE), "") -> PROBABLE ELECTO (TITULAR INSCRITO) | I58: =IFERROR(HYPERLINK(VLOOKUP($C$3 & "_0", BD_TABLA_DINAMICA!$A:$P, 16, FALSE), "Ver Hoja de Vida (PDF)"), "") -> Ver Hoja de Vida (PDF)
A59: =IF(1>$C$6, "NO ASIGNADO", IF($C$4="CONSEJO REGIONAL", "Consejero(a) Regional #1", "Regidor(a) #1")) -> Regidor(a) #1 | B59: =IF(1>$C$6, "NO ASIGNADO", IFERROR(VLOOKUP($C$3 & "_1", BD_TABLA_DINAMICA!$A:$P, 8, FALSE), "")) -> Mayoría Absoluta (LEM Art. 25) | C59: =IF(1>$C$6, "", IFERROR(VLOOKUP($C$3 & "_1", BD_TABLA_DINAMICA!$A:$P, 9, FALSE), "")) -> MOVIMIENTO REGIONAL AREQUIPA AVANCEMOS | D59: =IF(1>$C$6, "", IFERROR(VLOOKUP($C$3 & "_1", BD_TABLA_DINAMICA!$A:$P, 11, FALSE), "")) -> 1 | E59: =IF(1>$C$6, "", IFERROR(VLOOKUP($C$3 & "_1", BD_TABLA_DINAMICA!$A:$P, 12, FALSE), "NO REGISTRA EN PADRÓN")) -> EDWIN RUBEN CHUCTAYA GINCHO | F59: =IF(1>$C$6, "", IFERROR(VLOOKUP($C$3 & "_1", BD_TABLA_DINAMICA!$A:$P, 13, FALSE), "")) -> 47330011 | G59: =IF(1>$C$6, "", IFERROR(VLOOKUP($C$3 & "_1", BD_TABLA_DINAMICA!$A:$P, 14, FALSE), "DESCONOCIDO")) -> INSCRITO | H59: =IF(1>$C$6, "", IFERROR(VLOOKUP($C$3 & "_1", BD_TABLA_DINAMICA!$A:$P, 15, FALSE), "")) -> PROBABLE ELECTO (MAYORÍA ABSOLUTA) | I59: =IF(1>$C$6, "", IFERROR(HYPERLINK(VLOOKUP($C$3 & "_1", BD_TABLA_DINAMICA!$A:$P, 16, FALSE), "Ver Hoja de Vida (PDF)"), "")) -> Ver Hoja de Vida (PDF)
A60: =IF(2>$C$6, "NO ASIGNADO", IF($C$4="CONSEJO REGIONAL", "Consejero(a) Regional #2", "Regidor(a) #2")) -> Regidor(a) #2 | B60: =IF(2>$C$6, "NO ASIGNADO", IFERROR(VLOOKUP($C$3 & "_2", BD_TABLA_DINAMICA!$A:$P, 8, FALSE), "")) -> Mayoría Absoluta (LEM Art. 25) | C60: =IF(2>$C$6, "", IFERROR(VLOOKUP($C$3 & "_2", BD_TABLA_DINAMICA!$A:$P, 9, FALSE), "")) -> MOVIMIENTO REGIONAL AREQUIPA AVANCEMOS | D60: =IF(2>$C$6, "", IFERROR(VLOOKUP($C$3 & "_2", BD_TABLA_DINAMICA!$A:$P, 11, FALSE), "")) -> 2 | E60: =IF(2>$C$6, "", IFERROR(VLOOKUP($C$3 & "_2", BD_TABLA_DINAMICA!$A:$P, 12, FALSE), "NO REGISTRA EN PADRÓN")) -> ANA LUCIA APAZA CHILO | F60: =IF(2>$C$6, "", IFERROR(VLOOKUP($C$3 & "_2", BD_TABLA_DINAMICA!$A:$P, 13, FALSE), "")) -> 73044247 | G60: =IF(2>$C$6, "", IFERROR(VLOOKUP($C$3 & "_2", BD_TABLA_DINAMICA!$A:$P, 14, FALSE), "DESCONOCIDO")) -> INSCRITO | H60: =IF(2>$C$6, "", IFERROR(VLOOKUP($C$3 & "_2", BD_TABLA_DINAMICA!$A:$P, 15, FALSE), "")) -> PROBABLE ELECTO (MAYORÍA ABSOLUTA) | I60: =IF(2>$C$6, "", IFERROR(HYPERLINK(VLOOKUP($C$3 & "_2", BD_TABLA_DINAMICA!$A:$P, 16, FALSE), "Ver Hoja de Vida (PDF)"), "")) -> Ver Hoja de Vida (PDF)
A61: =IF(3>$C$6, "NO ASIGNADO", IF($C$4="CONSEJO REGIONAL", "Consejero(a) Regional #3", "Regidor(a) #3")) -> Regidor(a) #3 | B61: =IF(3>$C$6, "NO ASIGNADO", IFERROR(VLOOKUP($C$3 & "_3", BD_TABLA_DINAMICA!$A:$P, 8, FALSE), "")) -> Mayoría Absoluta (LEM Art. 25) | C61: =IF(3>$C$6, "", IFERROR(VLOOKUP($C$3 & "_3", BD_TABLA_DINAMICA!$A:$P, 9, FALSE), "")) -> MOVIMIENTO REGIONAL AREQUIPA AVANCEMOS | D61: =IF(3>$C$6, "", IFERROR(VLOOKUP($C$3 & "_3", BD_TABLA_DINAMICA!$A:$P, 11, FALSE), "")) -> 3 | E61: =IF(3>$C$6, "", IFERROR(VLOOKUP($C$3 & "_3", BD_TABLA_DINAMICA!$A:$P, 12, FALSE), "NO REGISTRA EN PADRÓN")) -> PERCY JESUS APAZA PELINCO | F61: =IF(3>$C$6, "", IFERROR(VLOOKUP($C$3 & "_3", BD_TABLA_DINAMICA!$A:$P, 13, FALSE), "")) -> 72747203 | G61: =IF(3>$C$6, "", IFERROR(VLOOKUP($C$3 & "_3", BD_TABLA_DINAMICA!$A:$P, 14, FALSE), "DESCONOCIDO")) -> INSCRITO | H61: =IF(3>$C$6, "", IFERROR(VLOOKUP($C$3 & "_3", BD_TABLA_DINAMICA!$A:$P, 15, FALSE), "")) -> PROBABLE ELECTO (MAYORÍA ABSOLUTA) | I61: =IF(3>$C$6, "", IFERROR(HYPERLINK(VLOOKUP($C$3 & "_3", BD_TABLA_DINAMICA!$A:$P, 16, FALSE), "Ver Hoja de Vida (PDF)"), "")) -> Ver Hoja de Vida (PDF)
A62: =IF(4>$C$6, "NO ASIGNADO", IF($C$4="CONSEJO REGIONAL", "Consejero(a) Regional #4", "Regidor(a) #4")) -> Regidor(a) #4 | B62: =IF(4>$C$6, "NO ASIGNADO", IFERROR(VLOOKUP($C$3 & "_4", BD_TABLA_DINAMICA!$A:$P, 8, FALSE), "")) -> Mayoría Absoluta (LEM Art. 25) | C62: =IF(4>$C$6, "", IFERROR(VLOOKUP($C$3 & "_4", BD_TABLA_DINAMICA!$A:$P, 9, FALSE), "")) -> MOVIMIENTO REGIONAL AREQUIPA AVANCEMOS | D62: =IF(4>$C$6, "", IFERROR(VLOOKUP($C$3 & "_4", BD_TABLA_DINAMICA!$A:$P, 11, FALSE), "")) -> 4 | E62: =IF(4>$C$6, "", IFERROR(VLOOKUP($C$3 & "_4", BD_TABLA_DINAMICA!$A:$P, 12, FALSE), "NO REGISTRA EN PADRÓN")) -> JUANA MARY VILCA HINOSTROSA | F62: =IF(4>$C$6, "", IFERROR(VLOOKUP($C$3 & "_4", BD_TABLA_DINAMICA!$A:$P, 13, FALSE), "")) -> 48356383 | G62: =IF(4>$C$6, "", IFERROR(VLOOKUP($C$3 & "_4", BD_TABLA_DINAMICA!$A:$P, 14, FALSE), "DESCONOCIDO")) -> INSCRITO | H62: =IF(4>$C$6, "", IFERROR(VLOOKUP($C$3 & "_4", BD_TABLA_DINAMICA!$A:$P, 15, FALSE), "")) -> PROBABLE ELECTO (MAYORÍA ABSOLUTA) | I62: =IF(4>$C$6, "", IFERROR(HYPERLINK(VLOOKUP($C$3 & "_4", BD_TABLA_DINAMICA!$A:$P, 16, FALSE), "Ver Hoja de Vida (PDF)"), "")) -> Ver Hoja de Vida (PDF)
A63: =IF(5>$C$6, "NO ASIGNADO", IF($C$4="CONSEJO REGIONAL", "Consejero(a) Regional #5", "Regidor(a) #5")) -> Regidor(a) #5 | B63: =IF(5>$C$6, "NO ASIGNADO", IFERROR(VLOOKUP($C$3 & "_5", BD_TABLA_DINAMICA!$A:$P, 8, FALSE), "")) -> Mayoría Absoluta (LEM Art. 25) | C63: =IF(5>$C$6, "", IFERROR(VLOOKUP($C$3 & "_5", BD_TABLA_DINAMICA!$A:$P, 9, FALSE), "")) -> MOVIMIENTO REGIONAL AREQUIPA AVANCEMOS | D63: =IF(5>$C$6, "", IFERROR(VLOOKUP($C$3 & "_5", BD_TABLA_DINAMICA!$A:$P, 11, FALSE), "")) -> 5 | E63: =IF(5>$C$6, "", IFERROR(VLOOKUP($C$3 & "_5", BD_TABLA_DINAMICA!$A:$P, 12, FALSE), "NO REGISTRA EN PADRÓN")) -> VICTOR CHAHUA PUMAINCA | F63: =IF(5>$C$6, "", IFERROR(VLOOKUP($C$3 & "_5", BD_TABLA_DINAMICA!$A:$P, 13, FALSE), "")) -> 24809709 | G63: =IF(5>$C$6, "", IFERROR(VLOOKUP($C$3 & "_5", BD_TABLA_DINAMICA!$A:$P, 14, FALSE), "DESCONOCIDO")) -> INSCRITO | H63: =IF(5>$C$6, "", IFERROR(VLOOKUP($C$3 & "_5", BD_TABLA_DINAMICA!$A:$P, 15, FALSE), "")) -> PROBABLE ELECTO (MAYORÍA ABSOLUTA) | I63: =IF(5>$C$6, "", IFERROR(HYPERLINK(VLOOKUP($C$3 & "_5", BD_TABLA_DINAMICA!$A:$P, 16, FALSE), "Ver Hoja de Vida (PDF)"), "")) -> Ver Hoja de Vida (PDF)
A64: =IF(6>$C$6, "NO ASIGNADO", IF($C$4="CONSEJO REGIONAL", "Consejero(a) Regional #6", "Regidor(a) #6")) -> Regidor(a) #6 | B64: =IF(6>$C$6, "NO ASIGNADO", IFERROR(VLOOKUP($C$3 & "_6", BD_TABLA_DINAMICA!$A:$P, 8, FALSE), "")) -> Minoría D'Hondt | C64: =IF(6>$C$6, "", IFERROR(VLOOKUP($C$3 & "_6", BD_TABLA_DINAMICA!$A:$P, 9, FALSE), "")) -> PARTIDO POLÍTICO PERÚ PRIMERO | D64: =IF(6>$C$6, "", IFERROR(VLOOKUP($C$3 & "_6", BD_TABLA_DINAMICA!$A:$P, 11, FALSE), "")) -> 1 | E64: =IF(6>$C$6, "", IFERROR(VLOOKUP($C$3 & "_6", BD_TABLA_DINAMICA!$A:$P, 12, FALSE), "NO REGISTRA EN PADRÓN")) -> ESMERALDA QUISPE QUENTA | F64: =IF(6>$C$6, "", IFERROR(VLOOKUP($C$3 & "_6", BD_TABLA_DINAMICA!$A:$P, 13, FALSE), "")) -> 46093651 | G64: =IF(6>$C$6, "", IFERROR(VLOOKUP($C$3 & "_6", BD_TABLA_DINAMICA!$A:$P, 14, FALSE), "DESCONOCIDO")) -> INSCRITO | H64: =IF(6>$C$6, "", IFERROR(VLOOKUP($C$3 & "_6", BD_TABLA_DINAMICA!$A:$P, 15, FALSE), "")) -> PROBABLE ELECTO (MINORÍA D'HONDT) | I64: =IF(6>$C$6, "", IFERROR(HYPERLINK(VLOOKUP($C$3 & "_6", BD_TABLA_DINAMICA!$A:$P, 16, FALSE), "Ver Hoja de Vida (PDF)"), "")) -> Ver Hoja de Vida (PDF)
A65: =IF(7>$C$6, "NO ASIGNADO", IF($C$4="CONSEJO REGIONAL", "Consejero(a) Regional #7", "Regidor(a) #7")) -> Regidor(a) #7 | B65: =IF(7>$C$6, "NO ASIGNADO", IFERROR(VLOOKUP($C$3 & "_7", BD_TABLA_DINAMICA!$A:$P, 8, FALSE), "")) -> Minoría D'Hondt | C65: =IF(7>$C$6, "", IFERROR(VLOOKUP($C$3 & "_7", BD_TABLA_DINAMICA!$A:$P, 9, FALSE), "")) -> ALIANZA PARA EL PROGRESO | D65: =IF(7>$C$6, "", IFERROR(VLOOKUP($C$3 & "_7", BD_TABLA_DINAMICA!$A:$P, 11, FALSE), "")) -> 1 | E65: =IF(7>$C$6, "", IFERROR(VLOOKUP($C$3 & "_7", BD_TABLA_DINAMICA!$A:$P, 12, FALSE), "NO REGISTRA EN PADRÓN")) -> ELIZABETH MICAELA TICONA QUISPE | F65: =IF(7>$C$6, "", IFERROR(VLOOKUP($C$3 & "_7", BD_TABLA_DINAMICA!$A:$P, 13, FALSE), "")) -> 70676497 | G65: =IF(7>$C$6, "", IFERROR(VLOOKUP($C$3 & "_7", BD_TABLA_DINAMICA!$A:$P, 14, FALSE), "DESCONOCIDO")) -> INSCRITO | H65: =IF(7>$C$6, "", IFERROR(VLOOKUP($C$3 & "_7", BD_TABLA_DINAMICA!$A:$P, 15, FALSE), "")) -> PROBABLE ELECTO (MINORÍA D'HONDT) | I65: =IF(7>$C$6, "", IFERROR(HYPERLINK(VLOOKUP($C$3 & "_7", BD_TABLA_DINAMICA!$A:$P, 16, FALSE), "Ver Hoja de Vida (PDF)"), "")) -> Ver Hoja de Vida (PDF)
A66: =IF(8>$C$6, "NO ASIGNADO", IF($C$4="CONSEJO REGIONAL", "Consejero(a) Regional #8", "Regidor(a) #8")) -> NO ASIGNADO | B66: =IF(8>$C$6, "NO ASIGNADO", IFERROR(VLOOKUP($C$3 & "_8", BD_TABLA_DINAMICA!$A:$P, 8, FALSE), "")) -> NO ASIGNADO | C66: =IF(8>$C$6, "", IFERROR(VLOOKUP($C$3 & "_8", BD_TABLA_DINAMICA!$A:$P, 9, FALSE), "")) | D66: =IF(8>$C$6, "", IFERROR(VLOOKUP($C$3 & "_8", BD_TABLA_DINAMICA!$A:$P, 11, FALSE), "")) | E66: =IF(8>$C$6, "", IFERROR(VLOOKUP($C$3 & "_8", BD_TABLA_DINAMICA!$A:$P, 12, FALSE), "NO REGISTRA EN PADRÓN")) | F66: =IF(8>$C$6, "", IFERROR(VLOOKUP($C$3 & "_8", BD_TABLA_DINAMICA!$A:$P, 13, FALSE), "")) | G66: =IF(8>$C$6, "", IFERROR(VLOOKUP($C$3 & "_8", BD_TABLA_DINAMICA!$A:$P, 14, FALSE), "DESCONOCIDO")) | H66: =IF(8>$C$6, "", IFERROR(VLOOKUP($C$3 & "_8", BD_TABLA_DINAMICA!$A:$P, 15, FALSE), "")) | I66: =IF(8>$C$6, "", IFERROR(HYPERLINK(VLOOKUP($C$3 & "_8", BD_TABLA_DINAMICA!$A:$P, 16, FALSE), "Ver Hoja de Vida (PDF)"), ""))
A67: =IF(9>$C$6, "NO ASIGNADO", IF($C$4="CONSEJO REGIONAL", "Consejero(a) Regional #9", "Regidor(a) #9")) -> NO ASIGNADO | B67: =IF(9>$C$6, "NO ASIGNADO", IFERROR(VLOOKUP($C$3 & "_9", BD_TABLA_DINAMICA!$A:$P, 8, FALSE), "")) -> NO ASIGNADO | C67: =IF(9>$C$6, "", IFERROR(VLOOKUP($C$3 & "_9", BD_TABLA_DINAMICA!$A:$P, 9, FALSE), "")) | D67: =IF(9>$C$6, "", IFERROR(VLOOKUP($C$3 & "_9", BD_TABLA_DINAMICA!$A:$P, 11, FALSE), "")) | E67: =IF(9>$C$6, "", IFERROR(VLOOKUP($C$3 & "_9", BD_TABLA_DINAMICA!$A:$P, 12, FALSE), "NO REGISTRA EN PADRÓN")) | F67: =IF(9>$C$6, "", IFERROR(VLOOKUP($C$3 & "_9", BD_TABLA_DINAMICA!$A:$P, 13, FALSE), "")) | G67: =IF(9>$C$6, "", IFERROR(VLOOKUP($C$3 & "_9", BD_TABLA_DINAMICA!$A:$P, 14, FALSE), "DESCONOCIDO")) | H67: =IF(9>$C$6, "", IFERROR(VLOOKUP($C$3 & "_9", BD_TABLA_DINAMICA!$A:$P, 15, FALSE), "")) | I67: =IF(9>$C$6, "", IFERROR(HYPERLINK(VLOOKUP($C$3 & "_9", BD_TABLA_DINAMICA!$A:$P, 16, FALSE), "Ver Hoja de Vida (PDF)"), ""))
A68: =IF(10>$C$6, "NO ASIGNADO", IF($C$4="CONSEJO REGIONAL", "Consejero(a) Regional #10", "Regidor(a) #10")) -> NO ASIGNADO | B68: =IF(10>$C$6, "NO ASIGNADO", IFERROR(VLOOKUP($C$3 & "_10", BD_TABLA_DINAMICA!$A:$P, 8, FALSE), "")) -> NO ASIGNADO | C68: =IF(10>$C$6, "", IFERROR(VLOOKUP($C$3 & "_10", BD_TABLA_DINAMICA!$A:$P, 9, FALSE), "")) | D68: =IF(10>$C$6, "", IFERROR(VLOOKUP($C$3 & "_10", BD_TABLA_DINAMICA!$A:$P, 11, FALSE), "")) | E68: =IF(10>$C$6, "", IFERROR(VLOOKUP($C$3 & "_10", BD_TABLA_DINAMICA!$A:$P, 12, FALSE), "NO REGISTRA EN PADRÓN")) | F68: =IF(10>$C$6, "", IFERROR(VLOOKUP($C$3 & "_10", BD_TABLA_DINAMICA!$A:$P, 13, FALSE), "")) | G68: =IF(10>$C$6, "", IFERROR(VLOOKUP($C$3 & "_10", BD_TABLA_DINAMICA!$A:$P, 14, FALSE), "DESCONOCIDO")) | H68: =IF(10>$C$6, "", IFERROR(VLOOKUP($C$3 & "_10", BD_TABLA_DINAMICA!$A:$P, 15, FALSE), "")) | I68: =IF(10>$C$6, "", IFERROR(HYPERLINK(VLOOKUP($C$3 & "_10", BD_TABLA_DINAMICA!$A:$P, 16, FALSE), "Ver Hoja de Vida (PDF)"), ""))
A69: =IF(11>$C$6, "NO ASIGNADO", IF($C$4="CONSEJO REGIONAL", "Consejero(a) Regional #11", "Regidor(a) #11")) -> NO ASIGNADO | B69: =IF(11>$C$6, "NO ASIGNADO", IFERROR(VLOOKUP($C$3 & "_11", BD_TABLA_DINAMICA!$A:$P, 8, FALSE), "")) -> NO ASIGNADO | C69: =IF(11>$C$6, "", IFERROR(VLOOKUP($C$3 & "_11", BD_TABLA_DINAMICA!$A:$P, 9, FALSE), "")) | D69: =IF(11>$C$6, "", IFERROR(VLOOKUP($C$3 & "_11", BD_TABLA_DINAMICA!$A:$P, 11, FALSE), "")) | E69: =IF(11>$C$6, "", IFERROR(VLOOKUP($C$3 & "_11", BD_TABLA_DINAMICA!$A:$P, 12, FALSE), "NO REGISTRA EN PADRÓN")) | F69: =IF(11>$C$6, "", IFERROR(VLOOKUP($C$3 & "_11", BD_TABLA_DINAMICA!$A:$P, 13, FALSE), "")) | G69: =IF(11>$C$6, "", IFERROR(VLOOKUP($C$3 & "_11", BD_TABLA_DINAMICA!$A:$P, 14, FALSE), "DESCONOCIDO")) | H69: =IF(11>$C$6, "", IFERROR(VLOOKUP($C$3 & "_11", BD_TABLA_DINAMICA!$A:$P, 15, FALSE), "")) | I69: =IF(11>$C$6, "", IFERROR(HYPERLINK(VLOOKUP($C$3 & "_11", BD_TABLA_DINAMICA!$A:$P, 16, FALSE), "Ver Hoja de Vida (PDF)"), ""))
A70: =IF(12>$C$6, "NO ASIGNADO", IF($C$4="CONSEJO REGIONAL", "Consejero(a) Regional #12", "Regidor(a) #12")) -> NO ASIGNADO | B70: =IF(12>$C$6, "NO ASIGNADO", IFERROR(VLOOKUP($C$3 & "_12", BD_TABLA_DINAMICA!$A:$P, 8, FALSE), "")) -> NO ASIGNADO | C70: =IF(12>$C$6, "", IFERROR(VLOOKUP($C$3 & "_12", BD_TABLA_DINAMICA!$A:$P, 9, FALSE), "")) | D70: =IF(12>$C$6, "", IFERROR(VLOOKUP($C$3 & "_12", BD_TABLA_DINAMICA!$A:$P, 11, FALSE), "")) | E70: =IF(12>$C$6, "", IFERROR(VLOOKUP($C$3 & "_12", BD_TABLA_DINAMICA!$A:$P, 12, FALSE), "NO REGISTRA EN PADRÓN")) | F70: =IF(12>$C$6, "", IFERROR(VLOOKUP($C$3 & "_12", BD_TABLA_DINAMICA!$A:$P, 13, FALSE), "")) | G70: =IF(12>$C$6, "", IFERROR(VLOOKUP($C$3 & "_12", BD_TABLA_DINAMICA!$A:$P, 14, FALSE), "DESCONOCIDO")) | H70: =IF(12>$C$6, "", IFERROR(VLOOKUP($C$3 & "_12", BD_TABLA_DINAMICA!$A:$P, 15, FALSE), "")) | I70: =IF(12>$C$6, "", IFERROR(HYPERLINK(VLOOKUP($C$3 & "_12", BD_TABLA_DINAMICA!$A:$P, 16, FALSE), "Ver Hoja de Vida (PDF)"), ""))
A71: =IF(13>$C$6, "NO ASIGNADO", IF($C$4="CONSEJO REGIONAL", "Consejero(a) Regional #13", "Regidor(a) #13")) -> NO ASIGNADO | B71: =IF(13>$C$6, "NO ASIGNADO", IFERROR(VLOOKUP($C$3 & "_13", BD_TABLA_DINAMICA!$A:$P, 8, FALSE), "")) -> NO ASIGNADO | C71: =IF(13>$C$6, "", IFERROR(VLOOKUP($C$3 & "_13", BD_TABLA_DINAMICA!$A:$P, 9, FALSE), "")) | D71: =IF(13>$C$6, "", IFERROR(VLOOKUP($C$3 & "_13", BD_TABLA_DINAMICA!$A:$P, 11, FALSE), "")) | E71: =IF(13>$C$6, "", IFERROR(VLOOKUP($C$3 & "_13", BD_TABLA_DINAMICA!$A:$P, 12, FALSE), "NO REGISTRA EN PADRÓN")) | F71: =IF(13>$C$6, "", IFERROR(VLOOKUP($C$3 & "_13", BD_TABLA_DINAMICA!$A:$P, 13, FALSE), "")) | G71: =IF(13>$C$6, "", IFERROR(VLOOKUP($C$3 & "_13", BD_TABLA_DINAMICA!$A:$P, 14, FALSE), "DESCONOCIDO")) | H71: =IF(13>$C$6, "", IFERROR(VLOOKUP($C$3 & "_13", BD_TABLA_DINAMICA!$A:$P, 15, FALSE), "")) | I71: =IF(13>$C$6, "", IFERROR(HYPERLINK(VLOOKUP($C$3 & "_13", BD_TABLA_DINAMICA!$A:$P, 16, FALSE), "Ver Hoja de Vida (PDF)"), ""))
A72: =IF(14>$C$6, "NO ASIGNADO", IF($C$4="CONSEJO REGIONAL", "Consejero(a) Regional #14", "Regidor(a) #14")) -> NO ASIGNADO | B72: =IF(14>$C$6, "NO ASIGNADO", IFERROR(VLOOKUP($C$3 & "_14", BD_TABLA_DINAMICA!$A:$P, 8, FALSE), "")) -> NO ASIGNADO | C72: =IF(14>$C$6, "", IFERROR(VLOOKUP($C$3 & "_14", BD_TABLA_DINAMICA!$A:$P, 9, FALSE), "")) | D72: =IF(14>$C$6, "", IFERROR(VLOOKUP($C$3 & "_14", BD_TABLA_DINAMICA!$A:$P, 11, FALSE), "")) | E72: =IF(14>$C$6, "", IFERROR(VLOOKUP($C$3 & "_14", BD_TABLA_DINAMICA!$A:$P, 12, FALSE), "NO REGISTRA EN PADRÓN")) | F72: =IF(14>$C$6, "", IFERROR(VLOOKUP($C$3 & "_14", BD_TABLA_DINAMICA!$A:$P, 13, FALSE), "")) | G72: =IF(14>$C$6, "", IFERROR(VLOOKUP($C$3 & "_14", BD_TABLA_DINAMICA!$A:$P, 14, FALSE), "DESCONOCIDO")) | H72: =IF(14>$C$6, "", IFERROR(VLOOKUP($C$3 & "_14", BD_TABLA_DINAMICA!$A:$P, 15, FALSE), "")) | I72: =IF(14>$C$6, "", IFERROR(HYPERLINK(VLOOKUP($C$3 & "_14", BD_TABLA_DINAMICA!$A:$P, 16, FALSE), "Ver Hoja de Vida (PDF)"), ""))
A73: =IF(15>$C$6, "NO ASIGNADO", IF($C$4="CONSEJO REGIONAL", "Consejero(a) Regional #15", "Regidor(a) #15")) -> NO ASIGNADO | B73: =IF(15>$C$6, "NO ASIGNADO", IFERROR(VLOOKUP($C$3 & "_15", BD_TABLA_DINAMICA!$A:$P, 8, FALSE), "")) -> NO ASIGNADO | C73: =IF(15>$C$6, "", IFERROR(VLOOKUP($C$3 & "_15", BD_TABLA_DINAMICA!$A:$P, 9, FALSE), "")) | D73: =IF(15>$C$6, "", IFERROR(VLOOKUP($C$3 & "_15", BD_TABLA_DINAMICA!$A:$P, 11, FALSE), "")) | E73: =IF(15>$C$6, "", IFERROR(VLOOKUP($C$3 & "_15", BD_TABLA_DINAMICA!$A:$P, 12, FALSE), "NO REGISTRA EN PADRÓN")) | F73: =IF(15>$C$6, "", IFERROR(VLOOKUP($C$3 & "_15", BD_TABLA_DINAMICA!$A:$P, 13, FALSE), "")) | G73: =IF(15>$C$6, "", IFERROR(VLOOKUP($C$3 & "_15", BD_TABLA_DINAMICA!$A:$P, 14, FALSE), "DESCONOCIDO")) | H73: =IF(15>$C$6, "", IFERROR(VLOOKUP($C$3 & "_15", BD_TABLA_DINAMICA!$A:$P, 15, FALSE), "")) | I73: =IF(15>$C$6, "", IFERROR(HYPERLINK(VLOOKUP($C$3 & "_15", BD_TABLA_DINAMICA!$A:$P, 16, FALSE), "Ver Hoja de Vida (PDF)"), ""))

Sheet DATA_CONFIG_ESCANOS
A1: JURIS_KEY | B1: NIVEL | C1: PROVINCIA | D1: DISTRITO | E1: UBIGEO | F1: ESCAÑOS_TOTALES | G1: ESCAÑOS_MAYORIA | H1: ESCAÑOS_MINORIA | I1: BASE_LEGAL
A2: Arequipa - Provincial | B2: PROVINCIAL | C2: Arequipa | D2: Provincial | E2: 040100 | F2: 15 | G2: 9 | H2: 6 | I2: LEM Art. 25 inc. 2 (Mayoría: 9, Minorías D'Hondt: 6)
A3: Caylloma - Provincial | B3: PROVINCIAL | C3: Caylloma | D3: Provincial | E3: 040200 | F3: 11 | G3: 7 | H3: 4 | I3: LEM Art. 25 inc. 2 (Mayoría: 7, Minorías D'Hondt: 4)
A4: Camaná - Provincial | B4: PROVINCIAL | C4: Camaná | D4: Provincial | E4: 040300 | F4: 9 | G4: 6 | H4: 3 | I4: LEM Art. 25 inc. 2 (Mayoría: 6, Minorías D'Hondt: 3)
A5: Islay - Provincial | B5: PROVINCIAL | C5: Islay | D5: Provincial | E5: 040700 | F5: 9 | G5: 6 | H5: 3 | I5: LEM Art. 25 inc. 2 (Mayoría: 6, Minorías D'Hondt: 3)
A6: Caravelí - Provincial | B6: PROVINCIAL | C6: Caravelí | D6: Provincial | E6: 040400 | F6: 7 | G6: 5 | H6: 2 | I6: LEM Art. 25 inc. 2 (Mayoría: 5, Minorías D'Hondt: 2)
A7: Castilla - Provincial | B7: PROVINCIAL | C7: Castilla | D7: Provincial | E7: 040500 | F7: 7 | G7: 5 | H7: 2 | I7: LEM Art. 25 inc. 2 (Mayoría: 5, Minorías D'Hondt: 2)
A8: Condesuyos - Provincial | B8: PROVINCIAL | C8: Condesuyos | D8: Provincial | E8: 040600 | F8: 5 | G8: 4 | H8: 1 | I8: LEM Art. 25 inc. 2 (Mayoría: 4, Minorías D'Hondt: 1)
A9: La Unión - Provincial | B9: PROVINCIAL | C9: La Unión | D9: Provincial | E9: 040800 | F9: 5 | G9: 4 | H9: 1 | I9: LEM Art. 25 inc. 2 (Mayoría: 4, Minorías D'Hondt: 1)
A10: Arequipa - Cayma | B10: DISTRITAL | C10: Arequipa | D10: Cayma | E10: 040102 | F10: 11 | G10: 7 | H10: 4 | I10: LEM Art. 25 inc. 2 (Mayoría: 7, Minorías D'Hondt: 4)
A11: Arequipa - Cerro Colorado | B11: DISTRITAL | C11: Arequipa | D11: Cerro Colorado | E11: 040103 | F11: 11 | G11: 7 | H11: 4 | I11: LEM Art. 25 inc. 2 (Mayoría: 7, Minorías D'Hondt: 4)
A12: Arequipa - Characato | B12: DISTRITAL | C12: Arequipa | D12: Characato | E12: 040104 | F12: 5 | G12: 4 | H12: 1 | I12: LEM Art. 25 inc. 2 (Mayoría: 4, Minorías D'Hondt: 1)
A13: Arequipa - Chiguata | B13: DISTRITAL | C13: Arequipa | D13: Chiguata | E13: 040105 | F13: 5 | G13: 4 | H13: 1 | I13: LEM Art. 25 inc. 2 (Mayoría: 4, Minorías D'Hondt: 1)
... A118: La Unión - Regional | B118: CONSEJO REGIONAL | C118: La Unión | D118: Regional | E118: 040800 | F118: 2 | G118: 0 | H118: 2 | I118: D'Hondt puro por circunscripción provincial (Ley N° 27683)

Sheet DATA_VOTOS_ONPE
A1: CLAVE_JURIS_RANK | B1: JURIS_KEY | C1: RANKING | D1: NIVEL | E1: PROVINCIA | F1: DISTRITO | G1: PARTIDO | H1: PARTIDO_CLEAN | I1: VOTOS_VALIDOS | J1: PCT_VALIDOS | K1: TOTAL_VOTOS_CONCEJO | L1: ACTAS_CONTABILIZADAS_PCT | M1: TOTAL_MESAS | N1: MESAS_CONTABILIZADAS
A2: Arequipa - Provincial_1 | B2: Arequipa - Provincial | C2: 1 | D2: PROVINCIAL | E2: Arequipa | F2: Provincial | G2: FUERZA AREQUIPEÑA | H2: FUERZA AREQUIPENA | I2: 129252 | J2: 0.19285 | K2: 670209 | L2: 100 | M2: 3216 | N2: 3216
A3: Arequipa - Provincial_2 | B3: Arequipa - Provincial | C3: 2 | D3: PROVINCIAL | E3: Arequipa | F3: Provincial | G3: AHORA NACIÓN - AN | H3: AHORA NACION AN | I3: 105515 | J3: 0.15744 | K3: 670209 | L3: 100 | M3: 3216 | N3: 3216
A4: Arequipa - Provincial_3 | B4: Arequipa - Provincial | C4: 3 | D4: PROVINCIAL | E4: Arequipa | F4: Provincial | G4: MOVIMIENTO REGIONAL AREQUIPA AVANCEMOS | H4: MOVIMIENTO REGIONAL AREQUIPA AVANCEMOS | I4: 74248 | J4: 0.11078 | K4: 670209 | L4: 100 | M4: 3216 | N4: 3216
A5: Arequipa - Provincial_4 | B5: Arequipa - Provincial | C5: 4 | D5: PROVINCIAL | E5: Arequipa | F5: Provincial | G5: RENOVACIÓN POPULAR PERÚ | H5: RENOVACION POPULAR PERU | I5: 64303 | J5: 0.09594 | K5: 670209 | L5: 100 | M5: 3216 | N5: 3216
A6: Arequipa - Provincial_5 | B6: Arequipa - Provincial | C6: 5 | D6: PROVINCIAL | E6: Arequipa | F6: Provincial | G6: PRIMERO LA GENTE - COMUNIDAD, ECOLOGÍA, LIBERTAD Y PROGRESO | H6: PRIMERO LA GENTE COMUNIDAD ECOLOGIA LIBERTAD Y PROGRESO | I6: 51577 | J6: 0.07696 | K6: 670209 | L6: 100 | M6: 3216 | N6: 3216
A7: Arequipa - Provincial_6 | B7: Arequipa - Provincial | C7: 6 | D7: PROVINCIAL | E7: Arequipa | F7: Provincial | G7: PARTIDO DEL BUEN GOBIERNO | H7: PARTIDO DEL BUEN GOBIERNO | I7: 43184 | J7: 0.06443 | K7: 670209 | L7: 100 | M7: 3216 | N7: 3216
A8: Arequipa - Provincial_7 | B8: Arequipa - Provincial | C8: 7 | D8: PROVINCIAL | E8: Arequipa | F8: Provincial | G8: ALIANZA PARA EL PROGRESO | H8: ALIANZA PARA EL PROGRESO | I8: 37259 | J8: 0.05559 | K8: 670209 | L8: 100 | M8: 3216 | N8: 3216
A9: Arequipa - Provincial_8 | B9: Arequipa - Provincial | C9: 8 | D9: PROVINCIAL | E9: Arequipa | F9: Provincial | G9: AREQUIPA, TRADICIÓN Y FUTURO | H9: AREQUIPA TRADICION Y FUTURO | I9: 30917 | J9: 0.04613 | K9: 670209 | L9: 100 | M9: 3216 | N9: 3216
A10: Arequipa - Provincial_9 | B10: Arequipa - Provincial | C10: 9 | D10: PROVINCIAL | E10: Arequipa | F10: Provincial | G10: YO AREQUIPA | H10: YO AREQUIPA | I10: 27599 | J10: 0.04118 | K10: 670209 | L10: 100 | M10: 3216 | N10: 3216
A11: Arequipa - Provincial_10 | B11: Arequipa - Provincial | C11: 10 | D11: PROVINCIAL | E11: Arequipa | F11: Provincial | G11: ACCIÓN POPULAR | H11: ACCION POPULAR | I11: 20928 | J11: 0.03123 | K11: 670209 | L11: 100 | M11: 3216 | N11: 3216
A12: Arequipa - Provincial_11 | B12: Arequipa - Provincial | C12: 11 | D12: PROVINCIAL | E12: Arequipa | F12: Provincial | G12: PROGRESEMOS | H12: PROGRESEMOS | I12: 19080 | J12: 0.02847 | K12: 670209 | L12: 100 | M12: 3216 | N12: 3216
A13: Arequipa - Provincial_12 | B13: Arequipa - Provincial | C13: 12 | D13: PROVINCIAL | E13: Arequipa | F13: Provincial | G13: PARTIDO DEMOCRÁTICO SOMOS PERÚ | H13: PARTIDO DEMOCRATICO SOMOS PERU | I13: 16964 | J13: 0.02531 | K13: 670209 | L13: 100 | M13: 3216 | N13: 3216
... A660: La Unión - Regional_10 | B660: La Unión - Regional | C660: 10 | D660: CONSEJO REGIONAL | E660: La Unión | F660: Regional | G660: PARTIDO APRISTA PERUANO | H660: PARTIDO APRISTA PERUANO | I660: 13 | J660: 0.0024 | K660: 5316 | L660: 100 | M660: 0 | N660: 0

Sheet DATA_PADRON_JNE
A1: LOOKUP_KEY | B1: JURIS_KEY | C1: PROVINCIA | D1: DISTRITO | E1: PARTIDO | F1: NUM_CANDIDATO | G1: CARGO | H1: NOMBRE_COMPLETO | I1: DNI | J1: ESTADO_JNE | K1: URL_HOJA_VIDA
A2: Arequipa - Alto Selva Alegre_ACCION POPULAR_0 | B2: Arequipa - Alto Selva Alegre | C2: Arequipa | D2: Alto Selva Alegre | E2: ACCION POPULAR | F2: 0 | G2: ALCALDE DISTRITAL | H2: DANIEL RICARDO DELGADO QUILLA | I2: 42040127 | J2: INSCRITO | K2: https://mpesije.jne.gob.pe/apidocs/abf0a38e-9138-490a-b4a4-1984d480d9e8.pdf
A3: Arequipa - Alto Selva Alegre_ACCION POPULAR_1 | B3: Arequipa - Alto Selva Alegre | C3: Arequipa | D3: Alto Selva Alegre | E3: ACCION POPULAR | F3: 1 | G3: REGIDOR DISTRITAL | H3: EDDIE GERSON PALACIOS ZEGARRA | I3: 62181331 | J3: INSCRITO | K3: https://mpesije.jne.gob.pe/apidocs/3f4eec16-1062-4508-baca-44ec0c6778df.pdf
A4: Arequipa - Alto Selva Alegre_ACCION POPULAR_2 | B4: Arequipa - Alto Selva Alegre | C4: Arequipa | D4: Alto Selva Alegre | E4: ACCION POPULAR | F4: 2 | G4: REGIDOR DISTRITAL | H4: YAQUELIN SALAZAR SALAZAR | I4: 72144670 | J4: INSCRITO | K4: https://mpesije.jne.gob.pe/apidocs/194645bb-fa97-4753-a474-c4471ebb8c4e.pdf
A5: Arequipa - Alto Selva Alegre_ACCION POPULAR_3 | B5: Arequipa - Alto Selva Alegre | C5: Arequipa | D5: Alto Selva Alegre | E5: ACCION POPULAR | F5: 3 | G5: REGIDOR DISTRITAL | H5: DIEGO PAUL MAMANI AGUILAR | I5: 71251863 | J5: INSCRITO | K5: https://mpesije.jne.gob.pe/apidocs/da72051d-e8b2-424a-bce9-eed802e0a162.pdf
A6: Arequipa - Alto Selva Alegre_ACCION POPULAR_4 | B6: Arequipa - Alto Selva Alegre | C6: Arequipa | D6: Alto Selva Alegre | E6: ACCION POPULAR | F6: 4 | G6: REGIDOR DISTRITAL | H6: JUANA LUQUE CUTIPA | I6: 44758779 | J6: INSCRITO | K6: https://mpesije.jne.gob.pe/apidocs/9b05f85f-f4aa-4f3d-8c89-3834bb8bfdf3.pdf
A7: Arequipa - Alto Selva Alegre_ACCION POPULAR_5 | B7: Arequipa - Alto Selva Alegre | C7: Arequipa | D7: Alto Selva Alegre | E7: ACCION POPULAR | F7: 5 | G7: REGIDOR DISTRITAL | H7: JUAN CHINO TICONA | I7: 30824579 | J7: INSCRITO | K7: https://mpesije.jne.gob.pe/apidocs/61f33ede-c8c9-4866-8c6e-db2f25434a55.pdf
A8: Arequipa - Alto Selva Alegre_ACCION POPULAR_6 | B8: Arequipa - Alto Selva Alegre | C8: Arequipa | D8: Alto Selva Alegre | E8: ACCION POPULAR | F8: 6 | G8: REGIDOR DISTRITAL | H8: RUTH MARIBEL ACHAHUI CONDORI | I8: 60062853 | J8: INSCRITO | K8: https://mpesije.jne.gob.pe/apidocs/565508ab-4a4b-4f56-8181-b747bc901eeb.pdf
A9: Arequipa - Alto Selva Alegre_ACCION POPULAR_7 | B9: Arequipa - Alto Selva Alegre | C9: Arequipa | D9: Alto Selva Alegre | E9: ACCION POPULAR | F9: 7 | G9: REGIDOR DISTRITAL | H9: DIEGO CARLOS PALACIOS ZEGARRA | I9: 45648910 | J9: INSCRITO | K9: https://mpesije.jne.gob.pe/apidocs/1af35a34-4183-4373-9244-02640f157cd1.pdf
A10: Arequipa - Alto Selva Alegre_ACCION POPULAR_8 | B10: Arequipa - Alto Selva Alegre | C10: Arequipa | D10: Alto Selva Alegre | E10: ACCION POPULAR | F10: 8 | G10: REGIDOR DISTRITAL | H10: GLORIA ANDREA CARPIO CABRERA | I10: 29309246 | J10: IMPROCEDENTE | K10: https://mpesije.jne.gob.pe/apidocs/a2583dab-feaa-4367-9a65-545be2458fd6.pdf
A11: Arequipa - Alto Selva Alegre_ACCION POPULAR_9 | B11: Arequipa - Alto Selva Alegre | C11: Arequipa | D11: Alto Selva Alegre | E11: ACCION POPULAR | F11: 9 | G11: REGIDOR DISTRITAL | H11: SAUL DELGADO QUILLA | I11: 41290219 | J11: EXCLUSION | K11: https://mpesije.jne.gob.pe/apidocs/2cb7bfb7-729d-472e-8b09-562be72d2ade.pdf
A12: Arequipa - Alto Selva Alegre_ACCION POPULAR_10 | B12: Arequipa - Alto Selva Alegre | C12: Arequipa | D12: Alto Selva Alegre | E12: ACCION POPULAR | F12: 10 | G12: REGIDOR DISTRITAL | H12: TOMAZA QUILLA DE DELGADO | I12: 29292534 | J12: INSCRITO | K12: https://mpesije.jne.gob.pe/apidocs/797c7639-38a8-40d8-95af-a70f3b4ce43e.pdf
A13: Arequipa - Alto Selva Alegre_AHORA NACION AN_0 | B13: Arequipa - Alto Selva Alegre | C13: Arequipa | D13: Alto Selva Alegre | E13: AHORA NACION - AN | F13: 0 | G13: ALCALDE DISTRITAL | H13: JOSE LUIS NARRO ORTIZ | I13: 40343403 | J13: INSCRITO | K13: https://mpesije.jne.gob.pe/apidocs/4b90fe02-4f0c-440b-8e4a-e2662e7f26e0.pdf
... A5798: Arequipa - Regional_ACCESITARIO_YO AREQUIPA_6 | B5798: Arequipa - Regional_ACCESITARIO | C5798: Arequipa | D5798: Regional | E5798: YO AREQUIPA | F5798: 6 | G5798: ACCESITARIO | H5798: BRANDON CRISTHIAN JESUS TURPO SALAMANCA | I5798: 76438951 | J5798: INSCRITO | K5798: https://mpesije.jne.gob.pe/apidocs/6123e8a6-da38-49ab-be4a-9fee350fb6a8.pdf

Sheet 01_CONSEJEROS_REGIONALES
A1: CONSEJO REGIONAL DE AREQUIPA: 16 CONSEJEROS ELECTOS AL 100% DE ACTAS (LEY N° 27683)
A2: Provincia | B2: Escaños Circunscripción | C2: N° Escaño | D2: Organización Política Ganadora | E2: Votos Obtenidos | F2: Cociente / Voto | G2: Candidato(a) Electo(a) JNE | H2: DNI | I2: Estado JNE | J2: Condición Legal | K2: Enlace Hoja de Vida
A3: Arequipa | B3: 6 | C3: Escaño #1 | D3: FUERZA AREQUIPEÑA | E3: 169703 | F3: 169703 | G3: OSCAR ALFREDO AYALA ARENAS | H3: 29384615 | I3: INSCRITO | J3: PROBABLE ELECTO (CONSEJERO REGIONAL D'HONDT) | K3: https://mpesije.jne.gob.pe/apidocs/b0d67ede-f281-406a-8fb8-c48d57499f6f.pdf
A4: Arequipa | B4: 6 | C4: Escaño #2 | D4: AHORA NACIÓN - AN | E4: 124426 | F4: 124426 | G4: JOSE RAUL SUAREZ LLERENA | H4: 29384128 | I4: INSCRITO | J4: PROBABLE ELECTO (CONSEJERO REGIONAL D'HONDT) | K4: https://mpesije.jne.gob.pe/apidocs/7f340b1e-c5bd-4513-b556-df289ed3cb90.pdf
A5: Arequipa | B5: 6 | C5: Escaño #3 | D5: MOVIMIENTO REGIONAL AREQUIPA AVANCEMOS | E5: 97409 | F5: 97409 | G5: CRISTHIAN MARIO CUADROS TREVIÑO | H5: 45161063 | I5: INSCRITO | J5: PROBABLE ELECTO (CONSEJERO REGIONAL D'HONDT) | K5: https://mpesije.jne.gob.pe/apidocs/111204cc-384d-44ac-818b-59a489ffe275.pdf
A6: Arequipa | B6: 6 | C6: Escaño #4 | D6: FUERZA AREQUIPEÑA | E6: 169703 | F6: 84851.5 | G6: GLENY MARIBEL AQUEPUCHO PACO | H6: 45053939 | I6: INSCRITO | J6: PROBABLE ELECTO (CONSEJERO REGIONAL D'HONDT) | K6: https://mpesije.jne.gob.pe/apidocs/a1fbfd85-464e-4e43-9fab-6b94704c2184.pdf
A7: Arequipa | B7: 6 | C7: Escaño #5 | D7: AHORA NACIÓN - AN | E7: 124426 | F7: 62213 | G7: CLEOPATRA CHAVEZ MENACHO DE ARENAS | H7: 29729383 | I7: INSCRITO | J7: PROBABLE ELECTO (CONSEJERO REGIONAL D'HONDT) | K7: https://mpesije.jne.gob.pe/apidocs/2d2e4f12-6af8-4bb3-8f1b-69179cd3a9a6.pdf
A8: Arequipa | B8: 6 | C8: Escaño #6 | D8: FUERZA AREQUIPEÑA | E8: 169703 | F8: 56567.7 | G8: RUTBEL RAUL BEGAZO SALAZAR | H8: 29582600 | I8: INSCRITO | J8: PROBABLE ELECTO (CONSEJERO REGIONAL D'HONDT) | K8: https://mpesije.jne.gob.pe/apidocs/0ea17018-8890-460b-9026-bf53dcc0d96d.pdf
A9: Caylloma | B9: 2 | C9: Escaño #1 | D9: ALIANZA PARA EL PROGRESO | E9: 10952 | F9: 10952 | G9: LUZ KAROL DEL CARPIO ARGUELLES | H9: 75051676 | I9: INSCRITO | J9: PROBABLE ELECTO (CONSEJERO REGIONAL D'HONDT) | K9: https://mpesije.jne.gob.pe/apidocs/2cd8092b-74c1-4fb4-af06-bdda912410ef.pdf
A10: Caylloma | B10: 2 | C10: Escaño #2 | D10: MOVIMIENTO REGIONAL AREQUIPA AVANCEMOS | E10: 8463 | F10: 8463 | G10: EDY MILAGROS CASCO CANO | H10: 43393832 | I10: INSCRITO | J10: PROBABLE ELECTO (CONSEJERO REGIONAL D'HONDT) | K10: https://mpesije.jne.gob.pe/apidocs/380fef4f-7915-40bc-aa3f-97352f46f2b6.pdf
A11: Camaná | B11: 1 | C11: Escaño #1 | D11: ACCIÓN POPULAR | E11: 6738 | F11: 6738 | G11: ALI ANYELO CHIOCK AMESQUITA | H11: 43138257 | I11: INSCRITO | J11: PROBABLE ELECTO (CONSEJERO REGIONAL D'HONDT) | K11: https://mpesije.jne.gob.pe/apidocs/3ed7f62c-0cca-48be-a4d4-0ceed8bcef33.pdf
A12: Caravelí | B12: 1 | C12: Escaño #1 | D12: AHORA NACIÓN - AN | E12: 3584 | F12: 3584 | G12: LINA MARIANA UGARTE ANGULO | H12: 72683884 | I12: INSCRITO | J12: PROBABLE ELECTO (CONSEJERO REGIONAL D'HONDT) | K12: https://mpesije.jne.gob.pe/apidocs/9e7bfe11-b57a-41ec-b7b6-e8cc2093f1f4.pdf
A13: Castilla | B13: 2 | C13: Escaño #1 | D13: FUERZA AREQUIPEÑA | E13: 3400 | F13: 3400 | G13: MARTHA MARCELINA HUAMANI CASTRO | H13: 29704624 | I13: INSCRITO | J13: PROBABLE ELECTO (CONSEJERO REGIONAL D'HONDT) | K13: https://mpesije.jne.gob.pe/apidocs/2a614034-ab95-4cde-bb2c-6b3cb726ed50.pdf
A14: Castilla | B14: 2 | C14: Escaño #2 | D14: AHORA NACIÓN - AN | E14: 3229 | F14: 3229 | G14: MAX ELIAS MORON ALVAREZ | H14: 40926257 | I14: INSCRITO | J14: PROBABLE ELECTO (CONSEJERO REGIONAL D'HONDT) | K14: https://mpesije.jne.gob.pe/apidocs/732886d5-617e-439f-9894-6c409b2287e2.pdf
... A18: La Unión | B18: 2 | C18: Escaño #2 | D18: PARTIDO DEMOCRÁTICO SOMOS PERÚ | E18: 1403 | F18: 1403 | G18: CESAR ROLANDO TOTOCAYO AYMARA | H18: 10160910 | I18: INSCRITO | J18: PROBABLE ELECTO (CONSEJERO REGIONAL D'HONDT) | K18: https://mpesije.jne.gob.pe/apidocs/dfdf8934-6708-44dd-b3c5-5a4e31837506.pdf

Sheet BD_TABLA_DINAMICA
A1: CLAVE_CONCEJO_ESCANO | B1: ID_REGISTRO | C1: NIVEL_GOBIERNO | D1: PROVINCIA | E1: DISTRITO | F1: TIPO_AUTORIDAD | G1: ORDEN_ESCAÑO | H1: TIPO_ASIGNACION | I1: ORGANIZACION_POLITICA | J1: PARTIDO_CLEAN | K1: NUMERO_LISTA | L1: NOMBRE_CANDIDATO | M1: DNI | N1: ESTADO_JNE | O1: CONDICION_LEGAL | P1: URL_HOJA_VIDA
A2: Arequipa - Regional_1 | B2: AUT_0001 | C2: CONSEJO REGIONAL | D2: Arequipa | E2: Regional | F2: CONSEJERO REGIONAL | G2: Escaño #1 | H2: Cifra Repartidora D'Hondt | I2: FUERZA AREQUIPEÑA | J2: FUERZA AREQUIPENA | K2: 1 | L2: OSCAR ALFREDO AYALA ARENAS | M2: 29384615 | N2: INSCRITO | O2: PROBABLE ELECTO (CONSEJERO REGIONAL D'HONDT) | P2: https://mpesije.jne.gob.pe/apidocs/b0d67ede-f281-406a-8fb8-c48d57499f6f.pdf
A3: Arequipa - Regional_2 | B3: AUT_0002 | C3: CONSEJO REGIONAL | D3: Arequipa | E3: Regional | F3: CONSEJERO REGIONAL | G3: Escaño #2 | H3: Cifra Repartidora D'Hondt | I3: AHORA NACIÓN - AN | J3: AHORA NACION AN | K3: 1 | L3: JOSE RAUL SUAREZ LLERENA | M3: 29384128 | N3: INSCRITO | O3: PROBABLE ELECTO (CONSEJERO REGIONAL D'HONDT) | P3: https://mpesije.jne.gob.pe/apidocs/7f340b1e-c5bd-4513-b556-df289ed3cb90.pdf
A4: Arequipa - Regional_3 | B4: AUT_0003 | C4: CONSEJO REGIONAL | D4: Arequipa | E4: Regional | F4: CONSEJERO REGIONAL | G4: Escaño #3 | H4: Cifra Repartidora D'Hondt | I4: MOVIMIENTO REGIONAL AREQUIPA AVANCEMOS | J4: MOVIMIENTO REGIONAL AREQUIPA AVANCEMOS | K4: 1 | L4: CRISTHIAN MARIO CUADROS TREVIÑO | M4: 45161063 | N4: INSCRITO | O4: PROBABLE ELECTO (CONSEJERO REGIONAL D'HONDT) | P4: https://mpesije.jne.gob.pe/apidocs/111204cc-384d-44ac-818b-59a489ffe275.pdf
A5: Arequipa - Regional_4 | B5: AUT_0004 | C5: CONSEJO REGIONAL | D5: Arequipa | E5: Regional | F5: CONSEJERO REGIONAL | G5: Escaño #4 | H5: Cifra Repartidora D'Hondt | I5: FUERZA AREQUIPEÑA | J5: FUERZA AREQUIPENA | K5: 2 | L5: GLENY MARIBEL AQUEPUCHO PACO | M5: 45053939 | N5: INSCRITO | O5: PROBABLE ELECTO (CONSEJERO REGIONAL D'HONDT) | P5: https://mpesije.jne.gob.pe/apidocs/a1fbfd85-464e-4e43-9fab-6b94704c2184.pdf
A6: Arequipa - Regional_5 | B6: AUT_0005 | C6: CONSEJO REGIONAL | D6: Arequipa | E6: Regional | F6: CONSEJERO REGIONAL | G6: Escaño #5 | H6: Cifra Repartidora D'Hondt | I6: AHORA NACIÓN - AN | J6: AHORA NACION AN | K6: 2 | L6: CLEOPATRA CHAVEZ MENACHO DE ARENAS | M6: 29729383 | N6: INSCRITO | O6: PROBABLE ELECTO (CONSEJERO REGIONAL D'HONDT) | P6: https://mpesije.jne.gob.pe/apidocs/2d2e4f12-6af8-4bb3-8f1b-69179cd3a9a6.pdf
A7: Arequipa - Regional_6 | B7: AUT_0006 | C7: CONSEJO REGIONAL | D7: Arequipa | E7: Regional | F7: CONSEJERO REGIONAL | G7: Escaño #6 | H7: Cifra Repartidora D'Hondt | I7: FUERZA AREQUIPEÑA | J7: FUERZA AREQUIPENA | K7: 3 | L7: RUTBEL RAUL BEGAZO SALAZAR | M7: 29582600 | N7: INSCRITO | O7: PROBABLE ELECTO (CONSEJERO REGIONAL D'HONDT) | P7: https://mpesije.jne.gob.pe/apidocs/0ea17018-8890-460b-9026-bf53dcc0d96d.pdf
A8: Caylloma - Regional_1 | B8: AUT_0007 | C8: CONSEJO REGIONAL | D8: Caylloma | E8: Regional | F8: CONSEJERO REGIONAL | G8: Escaño #1 | H8: Cifra Repartidora D'Hondt | I8: ALIANZA PARA EL PROGRESO | J8: ALIANZA PARA EL PROGRESO | K8: 1 | L8: LUZ KAROL DEL CARPIO ARGUELLES | M8: 75051676 | N8: INSCRITO | O8: PROBABLE ELECTO (CONSEJERO REGIONAL D'HONDT) | P8: https://mpesije.jne.gob.pe/apidocs/2cd8092b-74c1-4fb4-af06-bdda912410ef.pdf
A9: Caylloma - Regional_2 | B9: AUT_0008 | C9: CONSEJO REGIONAL | D9: Caylloma | E9: Regional | F9: CONSEJERO REGIONAL | G9: Escaño #2 | H9: Cifra Repartidora D'Hondt | I9: MOVIMIENTO REGIONAL AREQUIPA AVANCEMOS | J9: MOVIMIENTO REGIONAL AREQUIPA AVANCEMOS | K9: 1 | L9: EDY MILAGROS CASCO CANO | M9: 43393832 | N9: INSCRITO | O9: PROBABLE ELECTO (CONSEJERO REGIONAL D'HONDT) | P9: https://mpesije.jne.gob.pe/apidocs/380fef4f-7915-40bc-aa3f-97352f46f2b6.pdf
A10: Camaná - Regional_1 | B10: AUT_0009 | C10: CONSEJO REGIONAL | D10: Camaná | E10: Regional | F10: CONSEJERO REGIONAL | G10: Escaño #1 | H10: Cifra Repartidora D'Hondt | I10: ACCIÓN POPULAR | J10: ACCION POPULAR | K10: 1 | L10: ALI ANYELO CHIOCK AMESQUITA | M10: 43138257 | N10: INSCRITO | O10: PROBABLE ELECTO (CONSEJERO REGIONAL D'HONDT) | P10: https://mpesije.jne.gob.pe/apidocs/3ed7f62c-0cca-48be-a4d4-0ceed8bcef33.pdf
A11: Caravelí - Regional_1 | B11: AUT_0010 | C11: CONSEJO REGIONAL | D11: Caravelí | E11: Regional | F11: CONSEJERO REGIONAL | G11: Escaño #1 | H11: Cifra Repartidora D'Hondt | I11: AHORA NACIÓN - AN | J11: AHORA NACION AN | K11: 1 | L11: LINA MARIANA UGARTE ANGULO | M11: 72683884 | N11: INSCRITO | O11: PROBABLE ELECTO (CONSEJERO REGIONAL D'HONDT) | P11: https://mpesije.jne.gob.pe/apidocs/9e7bfe11-b57a-41ec-b7b6-e8cc2093f1f4.pdf
A12: Castilla - Regional_1 | B12: AUT_0011 | C12: CONSEJO REGIONAL | D12: Castilla | E12: Regional | F12: CONSEJERO REGIONAL | G12: Escaño #1 | H12: Cifra Repartidora D'Hondt | I12: FUERZA AREQUIPEÑA | J12: FUERZA AREQUIPENA | K12: 1 | L12: MARTHA MARCELINA HUAMANI CASTRO | M12: 29704624 | N12: INSCRITO | O12: PROBABLE ELECTO (CONSEJERO REGIONAL D'HONDT) | P12: https://mpesije.jne.gob.pe/apidocs/2a614034-ab95-4cde-bb2c-6b3cb726ed50.pdf
A13: Castilla - Regional_2 | B13: AUT_0012 | C13: CONSEJO REGIONAL | D13: Castilla | E13: Regional | F13: CONSEJERO REGIONAL | G13: Escaño #2 | H13: Cifra Repartidora D'Hondt | I13: AHORA NACIÓN - AN | J13: AHORA NACION AN | K13: 1 | L13: MAX ELIAS MORON ALVAREZ | M13: 40926257 | N13: INSCRITO | O13: PROBABLE ELECTO (CONSEJERO REGIONAL D'HONDT) | P13: https://mpesije.jne.gob.pe/apidocs/732886d5-617e-439f-9894-6c409b2287e2.pdf
... A753: La Unión - Toro_5 | B753: AUT_0752 | C753: MUNICIPIO DISTRITAL | D753: La Unión | E753: Toro | F753: REGIDOR DISTRITAL | G753: Regidor #5 | H753: Minoría D'Hondt | I753: ALIANZA PARA EL PROGRESO | J753: ALIANZA PARA EL PROGRESO | K753: 1 | L753: TORIBIO WILSON FALCON GUZMAN | M753: 42337724 | N753: INSCRITO | O753: PROBABLE ELECTO (MINORÍA D'HONDT) | P753: https://mpesije.jne.gob.pe/apidocs/96adc39c-2107-4e9d-bd6a-34c7e1061ca2.pdf
